BEGIN:VCALENDAR
VERSION:2.0
PRODID:-//Plone.org//NONSGML plone.app.event//EN
X-WR-TIMEZONE:Europe/Madrid
BEGIN:VEVENT
SUMMARY:'Directe amb l'alcalde'
DTSTART;TZID=Europe/Madrid;VALUE=DATE-TIME:20200602T180000
DTEND;TZID=Europe/Madrid;VALUE=DATE-TIME:20200602T190000
DTSTAMP;VALUE=DATE-TIME:20260421T233454Z
UID:ac1896266b5851f8a20329faa171bdfc
CREATED;VALUE=DATE-TIME:20200602T000000Z
CATEGORIES:Agenda institucional
URL:https://alella.cat/document.php?id=12941
END:VEVENT
END:VCALENDAR