BEGIN:VCALENDAR
VERSION:2.0
PRODID:-//Plone.org//NONSGML plone.app.event//EN
X-WR-TIMEZONE:Europe/Madrid
BEGIN:VEVENT
SUMMARY:Com sobreviure a l'elaboració de projectes sense deixar-s'hi la pell??
DTSTART;TZID=Europe/Madrid;VALUE=DATE-TIME:20200324T190000
DTEND;TZID=Europe/Madrid;VALUE=DATE-TIME:20200324T200000
DTSTAMP;VALUE=DATE-TIME:20260424T175606Z
UID:4ce581311074e7e1d6e8eb1e8d981ecb
CREATED;VALUE=DATE-TIME:20200324T000000Z
CATEGORIES:Agenda institucional
LOCATION:Centre Cultural de Can Lleonart - Plaça dels Germans Lleonart, 1 08328 Alella
COMMENT:Durada: De 19 a 21 h
DESCRIPTION:Formació per a associacions i col·lectius
URL:https://alella.cat/document.php?id=12761
END:VEVENT
END:VCALENDAR