BEGIN:VCALENDAR
VERSION:2.0
PRODID:-//Plone.org//NONSGML plone.app.event//EN
X-WR-TIMEZONE:Europe/Madrid
BEGIN:VEVENT
SUMMARY:Reunió Festa Verema
DTSTART;TZID=Europe/Madrid;VALUE=DATE-TIME:20200225T100000
DTEND;TZID=Europe/Madrid;VALUE=DATE-TIME:20200225T110000
DTSTAMP;VALUE=DATE-TIME:20260424T025126Z
UID:3fceba9b78611c26c3abaa521ae3bbed
CREATED;VALUE=DATE-TIME:20200225T000000Z
CATEGORIES:Agenda institucional
LOCATION:A concretar
URL:https://alella.cat/document.php?id=12677
END:VEVENT
END:VCALENDAR