BEGIN:VCALENDAR
VERSION:2.0
PRODID:-//Plone.org//NONSGML plone.app.event//EN
X-WR-TIMEZONE:Europe/Madrid
BEGIN:VEVENT
SUMMARY:Reunió Coordinació amb Serveis Municipals
DTSTART;TZID=Europe/Madrid;VALUE=DATE-TIME:20200224T103000
DTEND;TZID=Europe/Madrid;VALUE=DATE-TIME:20200224T113000
DTSTAMP;VALUE=DATE-TIME:20260421T164136Z
UID:58fe71b973fbd3e80c79088b4fe03962
CREATED;VALUE=DATE-TIME:20200224T000000Z
CATEGORIES:Agenda institucional
LOCATION:Alcaldia
URL:https://alella.cat/document.php?id=12675
END:VEVENT
END:VCALENDAR