BEGIN:VCALENDAR
VERSION:2.0
PRODID:-//Plone.org//NONSGML plone.app.event//EN
X-WR-TIMEZONE:Europe/Madrid
BEGIN:VEVENT
SUMMARY:Reunió amb la Diputació a Can Magarola
DTSTART;TZID=Europe/Madrid;VALUE=DATE-TIME:20200206T110000
DTEND;TZID=Europe/Madrid;VALUE=DATE-TIME:20200206T120000
DTSTAMP;VALUE=DATE-TIME:20260425T023127Z
UID:27d143f34b83c923330a85d957092520
CREATED;VALUE=DATE-TIME:20200206T000000Z
CATEGORIES:Agenda institucional
LOCATION:Can Magarola
URL:https://alella.cat/document.php?id=12580
END:VEVENT
END:VCALENDAR