BEGIN:VCALENDAR
VERSION:2.0
PRODID:-//Plone.org//NONSGML plone.app.event//EN
X-WR-TIMEZONE:Europe/Madrid
BEGIN:VEVENT
SUMMARY:&#128073;Jornada de portes obertes a l'Institut d'Alella
DTSTART;TZID=Europe/Madrid;VALUE=DATE-TIME:20200303T170000
DTEND;TZID=Europe/Madrid;VALUE=DATE-TIME:20200303T180000
DTSTAMP;VALUE=DATE-TIME:20260423T111607Z
UID:e2cff621aa6170789fb3f61d571bae52
CREATED;VALUE=DATE-TIME:20200303T000000Z
CATEGORIES:Familiars
LOCATION:Institut Alella - Avinguda del Bosquet, 7. 08328 Alella
URL:https://alella.cat/document.php?id=12489
END:VEVENT
END:VCALENDAR