BEGIN:VCALENDAR
VERSION:2.0
PRODID:-//Plone.org//NONSGML plone.app.event//EN
X-WR-TIMEZONE:Europe/Madrid
BEGIN:VEVENT
SUMMARY:Reunió coordinació espais: EAE
DTSTART;TZID=Europe/Madrid;VALUE=DATE-TIME:20200116T160000
DTEND;TZID=Europe/Madrid;VALUE=DATE-TIME:20200116T170000
DTSTAMP;VALUE=DATE-TIME:20260424T052325Z
UID:3ec55a56b569e15ea7a35e88d4805956
CREATED;VALUE=DATE-TIME:20200116T000000Z
CATEGORIES:Agenda institucional
LOCATION:A concretar
URL:https://alella.cat/document.php?id=12435
END:VEVENT
END:VCALENDAR