BEGIN:VCALENDAR
VERSION:2.0
PRODID:-//Plone.org//NONSGML plone.app.event//EN
X-WR-TIMEZONE:Europe/Madrid
BEGIN:VEVENT
SUMMARY:Reunió del Consorci de Promoció Enoturística del Territori DO Alella
DTSTART;TZID=Europe/Madrid;VALUE=DATE-TIME:20200115T113000
DTEND;TZID=Europe/Madrid;VALUE=DATE-TIME:20200115T123000
DTSTAMP;VALUE=DATE-TIME:20260424T011849Z
UID:8f9a20f3fe67fad09d9f1507ec79d179
CREATED;VALUE=DATE-TIME:20200115T000000Z
CATEGORIES:Agenda institucional
LOCATION:Can Lleonart
URL:https://alella.cat/document.php?id=12431
END:VEVENT
END:VCALENDAR