BEGIN:VCALENDAR
VERSION:2.0
PRODID:-//Plone.org//NONSGML plone.app.event//EN
X-WR-TIMEZONE:Europe/Madrid
BEGIN:VEVENT
SUMMARY:Reunió de govern
DTSTART;TZID=Europe/Madrid;VALUE=DATE-TIME:20191219T170000
DTEND;TZID=Europe/Madrid;VALUE=DATE-TIME:20191219T180000
DTSTAMP;VALUE=DATE-TIME:20260422T094631Z
UID:2a908440ba0422ea2236dfbfd0c9de2a
CREATED;VALUE=DATE-TIME:20191219T000000Z
CATEGORIES:Agenda institucional
LOCATION:Sala de Juntes
URL:https://alella.cat/document.php?id=12373
END:VEVENT
END:VCALENDAR