BEGIN:VCALENDAR
VERSION:2.0
PRODID:-//Plone.org//NONSGML plone.app.event//EN
X-WR-TIMEZONE:Europe/Madrid
BEGIN:VEVENT
SUMMARY:Ple de l'Ajuntament
DTSTART;TZID=Europe/Madrid;VALUE=DATE-TIME:20191219T193000
DTEND;TZID=Europe/Madrid;VALUE=DATE-TIME:20191219T203000
DTSTAMP;VALUE=DATE-TIME:20260423T052156Z
UID:c2f725d261c5417a8979c0701d3f49ff
CREATED;VALUE=DATE-TIME:20191219T000000Z
CATEGORIES:Agenda institucional
LOCATION:Sala de Plens de l'Ajuntament
URL:https://alella.cat/document.php?id=12345
END:VEVENT
END:VCALENDAR