BEGIN:VCALENDAR
VERSION:2.0
PRODID:-//Plone.org//NONSGML plone.app.event//EN
X-WR-TIMEZONE:Europe/Madrid
BEGIN:VEVENT
SUMMARY:Literatures amb sentits
DTSTART;TZID=Europe/Madrid;VALUE=DATE-TIME:20191030T193000
DTEND;TZID=Europe/Madrid;VALUE=DATE-TIME:20191030T203000
DTSTAMP;VALUE=DATE-TIME:20260422T212147Z
UID:8ef8a7a38e48d859a9279044de2c0b75
CREATED;VALUE=DATE-TIME:20191030T000000Z
CATEGORIES:Literatura,Vi i gastronomia
LOCATION:Can Manyé. Espai d'art i creació - Riera Coma Fosca 42. 08328 Alella
ORGANIZER:Ajuntament d'Alella
COMMENT:Preu: Activitat gratuïta
URL:https://alella.cat/document.php?id=11932
END:VEVENT
END:VCALENDAR