BEGIN:VCALENDAR
VERSION:2.0
PRODID:-//Plone.org//NONSGML plone.app.event//EN
X-WR-TIMEZONE:Europe/Madrid
BEGIN:VEVENT
SUMMARY:Atenció a la ciutadania
DTSTART;TZID=Europe/Madrid;VALUE=DATE-TIME:20191021T120000
DTEND;TZID=Europe/Madrid;VALUE=DATE-TIME:20191021T130000
DTSTAMP;VALUE=DATE-TIME:20260421T145622Z
UID:5587f172868c0df46641cc2195fd687c
CREATED;VALUE=DATE-TIME:20191021T000000Z
CATEGORIES:Agenda institucional
LOCATION:Ajuntament - Plaça de l'Ajuntament, 1. 08328 Alella.
URL:https://alella.cat/document.php?id=11926
END:VEVENT
END:VCALENDAR