BEGIN:VCALENDAR
VERSION:2.0
PRODID:-//Plone.org//NONSGML plone.app.event//EN
X-WR-TIMEZONE:Europe/Madrid
BEGIN:VEVENT
SUMMARY:Junta de Govern Local
DTSTART;TZID=Europe/Madrid;VALUE=DATE-TIME:20191003T183000
DTEND;TZID=Europe/Madrid;VALUE=DATE-TIME:20191003T193000
DTSTAMP;VALUE=DATE-TIME:20260422T011046Z
UID:eed9a80f86e8c24de9c35f7db0cc2856
CREATED;VALUE=DATE-TIME:20191003T000000Z
CATEGORIES:Agenda institucional
LOCATION:Sala de Juntes de l'Ajuntament
URL:https://alella.cat/document.php?id=11733
END:VEVENT
END:VCALENDAR