BEGIN:VCALENDAR
VERSION:2.0
PRODID:-//Plone.org//NONSGML plone.app.event//EN
X-WR-TIMEZONE:Europe/Madrid
BEGIN:VEVENT
SUMMARY:Cinema  También la lluvia
DTSTART;TZID=Europe/Madrid;VALUE=DATE-TIME:20191018T190000
DTEND;TZID=Europe/Madrid;VALUE=DATE-TIME:20191018T200000
DTSTAMP;VALUE=DATE-TIME:20260423T064255Z
UID:1429d7edf10764935a22246ecee9b878
CREATED;VALUE=DATE-TIME:20191018T000000Z
CATEGORIES:Cinema,Jornades
LOCATION:Espai d'arts escèniques Casal d'Alella - Carrer de Santa Teresa, 9 08328 Alella
ORGANIZER:Comissió de Cooperació Internacional
COMMENT:Preu: Gratuït
DESCRIPTION:AJORNAT Jornades de Cooperació Mirades al món "Accés a l'aigua: dret humà en perill!"
URL:https://alella.cat/document.php?id=11713
END:VEVENT
END:VCALENDAR