BEGIN:VCALENDAR
VERSION:2.0
PRODID:-//Plone.org//NONSGML plone.app.event//EN
X-WR-TIMEZONE:Europe/Madrid
BEGIN:VEVENT
SUMMARY:Festa de la Cooperació Internacional
DTSTART;TZID=Europe/Madrid;VALUE=DATE-TIME:20191020T110000
DTEND;TZID=Europe/Madrid;VALUE=DATE-TIME:20191020T120000
DTSTAMP;VALUE=DATE-TIME:20260423T160322Z
UID:8ddd59ded60a9f576f1788a110fbe976
CREATED;VALUE=DATE-TIME:20191020T000000Z
CATEGORIES:Espectacles,Jornades,Festes i fires,Familiars
LOCATION:Plaça de l'Ajuntament - Plaça de l'Ajuntament, s/n. 08328 Alella
ORGANIZER:Comissió de Cooperació Internacional
COMMENT:Preu: Gratuït
DESCRIPTION:Jornades de Cooperació Mirades al món "Accés a l'aigua: dret humà en perill!"
URL:https://alella.cat/document.php?id=11712
END:VEVENT
END:VCALENDAR