BEGIN:VCALENDAR
VERSION:2.0
PRODID:-//Plone.org//NONSGML plone.app.event//EN
X-WR-TIMEZONE:Europe/Madrid
BEGIN:VEVENT
SUMMARY:Plantada de Gegants
DTSTART;TZID=Europe/Madrid;VALUE=DATE-TIME:20190908T100000
DTEND;TZID=Europe/Madrid;VALUE=DATE-TIME:20190908T110000
DTSTAMP;VALUE=DATE-TIME:20260425T010529Z
UID:7aa4779c79b7baf91a01dc72022bd6d8
CREATED;VALUE=DATE-TIME:20190908T000000Z
CATEGORIES:Festes i fires
LOCATION:Passeig de Sant Josep de Calassanç
ORGANIZER:Ajuntament d'Alella
URL:https://alella.cat/document.php?id=11644
END:VEVENT
END:VCALENDAR