BEGIN:VCALENDAR
VERSION:2.0
PRODID:-//Plone.org//NONSGML plone.app.event//EN
X-WR-TIMEZONE:Europe/Madrid
BEGIN:VEVENT
SUMMARY:Festa Major. Sardinada a la brasa
DTSTART;TZID=Europe/Madrid;VALUE=DATE-TIME:20190804T213000
DTEND;TZID=Europe/Madrid;VALUE=DATE-TIME:20190804T223000
DTSTAMP;VALUE=DATE-TIME:20260424T012024Z
UID:e5c9afe504de2e14391f89ce071592ba
CREATED;VALUE=DATE-TIME:20190804T000000Z
CATEGORIES:Festes i fires,Vi i gastronomia
LOCATION:Plaça de l'Ajuntament - Plaça de l'Ajuntament, s/n. 08328 Alella
ORGANIZER:Ajuntament d'Alella
URL:https://alella.cat/document.php?id=11594
END:VEVENT
END:VCALENDAR