BEGIN:VCALENDAR
VERSION:2.0
PRODID:-//Plone.org//NONSGML plone.app.event//EN
X-WR-TIMEZONE:Europe/Madrid
BEGIN:VEVENT
SUMMARY:Ritual de La Fil·loxera
DTSTART;TZID=Europe/Madrid;VALUE=DATE-TIME:20190727T230000
DTEND;TZID=Europe/Madrid;VALUE=DATE-TIME:20190728T000000
DTSTAMP;VALUE=DATE-TIME:20260424T121935Z
UID:b4c23ba62d8fef171e2c782b50da453a
CREATED;VALUE=DATE-TIME:20190727T000000Z
CATEGORIES:Espectacles,Festes i fires,Joves
LOCATION:Plaça de l'Ajuntament - Plaça de l'Ajuntament, s/n. 08328 Alella
ORGANIZER:Ajuntament d'Alella
COMMENT:Preu: Gratuït
Durada: 1 hora
DESCRIPTION:La Fil·loxera - Cap de Setmana Jove
URL:https://alella.cat/document.php?id=11550
END:VEVENT
END:VCALENDAR