BEGIN:VCALENDAR
VERSION:2.0
PRODID:-//Plone.org//NONSGML plone.app.event//EN
X-WR-TIMEZONE:Europe/Madrid
BEGIN:VEVENT
SUMMARY:1a Cursa Popular de La Fil·loxera
DTSTART;TZID=Europe/Madrid;VALUE=DATE-TIME:20190727T220000
DTEND;TZID=Europe/Madrid;VALUE=DATE-TIME:20190727T230000
DTSTAMP;VALUE=DATE-TIME:20260419T165034Z
UID:9a394598c4c3ade28c864084ec8b7ba2
CREATED;VALUE=DATE-TIME:20190727T000000Z
CATEGORIES:Joves,Esports
LOCATION:Plaça de l'Ajuntament - Plaça de l'Ajuntament, s/n. 08328 Alella
ORGANIZER:Àrea d'Adolescència i Joventut
COMMENT:Preu: Gratuït
Durada: 1 hora
DESCRIPTION:La Fil·loxera - Cap de Setmana Jove
URL:https://alella.cat/document.php?id=11549
END:VEVENT
END:VCALENDAR