BEGIN:VCALENDAR
VERSION:2.0
PRODID:-//Plone.org//NONSGML plone.app.event//EN
X-WR-TIMEZONE:Europe/Madrid
BEGIN:VEVENT
SUMMARY:Mural urbà i taller d'arts urbanes
DTSTART;TZID=Europe/Madrid;VALUE=DATE-TIME:20190727T130000
DTEND;TZID=Europe/Madrid;VALUE=DATE-TIME:20190727T140000
DTSTAMP;VALUE=DATE-TIME:20260423T052049Z
UID:f69eb940035e5f7238e01f1233679ff5
CREATED;VALUE=DATE-TIME:20190727T000000Z
CATEGORIES:Espectacles,Música,Exposició,Cursos,Joves
LOCATION:Parc del Canonge
ORGANIZER:Ajuntament d'Alella
COMMENT:Preu: Gratuït
Durada: 6 hores
DESCRIPTION:La Fil·loxera - Cap de Setmana Jove
URL:https://alella.cat/document.php?id=11546
END:VEVENT
END:VCALENDAR