BEGIN:VCALENDAR
VERSION:2.0
PRODID:-//Plone.org//NONSGML plone.app.event//EN
X-WR-TIMEZONE:Europe/Madrid
BEGIN:VEVENT
SUMMARY:Reunió de coordinació de govern
DTSTART;TZID=Europe/Madrid;VALUE=DATE-TIME:20190718T170000
DTEND;TZID=Europe/Madrid;VALUE=DATE-TIME:20190718T180000
DTSTAMP;VALUE=DATE-TIME:20260423T155513Z
UID:fc7c428c877f3ff2d024906098493dc9
CREATED;VALUE=DATE-TIME:20190718T000000Z
CATEGORIES:Agenda institucional
LOCATION:Sala de reunions de l'Ajuntament
URL:https://alella.cat/document.php?id=11531
END:VEVENT
END:VCALENDAR