BEGIN:VCALENDAR
VERSION:2.0
PRODID:-//Plone.org//NONSGML plone.app.event//EN
X-WR-TIMEZONE:Europe/Madrid
BEGIN:VEVENT
SUMMARY:Signatura de convenis centres educatius i AMPA
DTSTART;TZID=Europe/Madrid;VALUE=DATE-TIME:20190712T083000
DTEND;TZID=Europe/Madrid;VALUE=DATE-TIME:20190712T093000
DTSTAMP;VALUE=DATE-TIME:20260423T081007Z
UID:2473c547b070000ec2a72e66d2dc967d
CREATED;VALUE=DATE-TIME:20190712T000000Z
CATEGORIES:Agenda institucional
LOCATION:Despatx d'alcaldia
URL:https://alella.cat/document.php?id=11501
END:VEVENT
END:VCALENDAR