BEGIN:VCALENDAR
VERSION:2.0
PRODID:-//Plone.org//NONSGML plone.app.event//EN
X-WR-TIMEZONE:Europe/Madrid
BEGIN:VEVENT
SUMMARY:Junta de Govern Local
DTSTART;TZID=Europe/Madrid;VALUE=DATE-TIME:20190627T183500
DTEND;TZID=Europe/Madrid;VALUE=DATE-TIME:20190627T193500
DTSTAMP;VALUE=DATE-TIME:20260421T144226Z
UID:e8b74da5582524b31567d451138f8c49
CREATED;VALUE=DATE-TIME:20190627T000000Z
CATEGORIES:Agenda institucional
LOCATION:Sala de Juntes de l'Ajuntament
URL:https://alella.cat/document.php?id=11453
END:VEVENT
END:VCALENDAR