BEGIN:VCALENDAR
VERSION:2.0
PRODID:-//Plone.org//NONSGML plone.app.event//EN
X-WR-TIMEZONE:Europe/Madrid
BEGIN:VEVENT
SUMMARY:Visita comentada a l'exposició "Inventari de Latung La La"
DTSTART;TZID=Europe/Madrid;VALUE=DATE-TIME:20190602T120000
DTEND;TZID=Europe/Madrid;VALUE=DATE-TIME:20190602T130000
DTSTAMP;VALUE=DATE-TIME:20260424T151323Z
UID:0ab3e294846603574217dcee062ae6ee
CREATED;VALUE=DATE-TIME:20190602T000000Z
CATEGORIES:Exposició,Tertúlies
LOCATION:Can Manyé. Espai d'art i creació - Riera Coma Fosca 42. 08328 Alella
ORGANIZER:Ajuntament d'Alella
COMMENT:Preu: Gratuït
DESCRIPTION:Realitzada per l'artista David Ymbernon
URL:https://alella.cat/document.php?id=11367
END:VEVENT
END:VCALENDAR