BEGIN:VCALENDAR
VERSION:2.0
PRODID:-//Plone.org//NONSGML plone.app.event//EN
X-WR-TIMEZONE:Europe/Madrid
BEGIN:VEVENT
SUMMARY:Festival d'Estiu. Halldor Mar
DTSTART;TZID=Europe/Madrid;VALUE=DATE-TIME:20190713T220000
DTEND;TZID=Europe/Madrid;VALUE=DATE-TIME:20190713T230000
DTSTAMP;VALUE=DATE-TIME:20260424T151254Z
UID:0d3a2f5f6a5aa59b332e6ee502c0c34c
CREATED;VALUE=DATE-TIME:20190713T000000Z
CATEGORIES:Música,Vi i gastronomia
LOCATION:Celler Bouquet d'Alella - c/ Sant Josep de Calassanç, 8 (Carretera BP 5002 El Masnou-Granollers km 2,5)
ORGANIZER:Ajuntament d'Alella i Celler Bouquet d'Alella
COMMENT:Preu: 18 euros
Durada: Espai enogastronòmic a partir de les 20h
URL:https://alella.cat/document.php?id=11297
END:VEVENT
END:VCALENDAR