BEGIN:VCALENDAR
VERSION:2.0
PRODID:-//Plone.org//NONSGML plone.app.event//EN
X-WR-TIMEZONE:Europe/Madrid
BEGIN:VEVENT
SUMMARY:Passejada pel Parc de la Serralada Litoral. Els antics camins d'Alella
DTSTART;TZID=Europe/Madrid;VALUE=DATE-TIME:20191013T100000
DTEND;TZID=Europe/Madrid;VALUE=DATE-TIME:20191013T110000
DTSTAMP;VALUE=DATE-TIME:20260425T171132Z
UID:fed56649b2a5b36ee822321d80cb77c4
CREATED;VALUE=DATE-TIME:20191013T000000Z
CATEGORIES:Sortides,Vi i gastronomia
LOCATION:Oficina de Turisme - Riera Fosca 2. 08328 Alella
ORGANIZER:Ajuntament d'Alella
COMMENT:Preu: 4 euros
URL:https://alella.cat/document.php?id=11250
END:VEVENT
END:VCALENDAR