BEGIN:VCALENDAR
VERSION:2.0
PRODID:-//Plone.org//NONSGML plone.app.event//EN
X-WR-TIMEZONE:Europe/Madrid
BEGIN:VEVENT
SUMMARY:Inauguració de la reurbanització dels carrers Canonge i La Font i la remodelació de la zona verda de La Gaietana
DTSTART;TZID=Europe/Madrid;VALUE=DATE-TIME:20190302T120000
DTEND;TZID=Europe/Madrid;VALUE=DATE-TIME:20190302T130000
DTSTAMP;VALUE=DATE-TIME:20260426T023301Z
UID:826384846ca19ad387fa6ef864e22ef8
CREATED;VALUE=DATE-TIME:20190302T000000Z
CATEGORIES:Agenda institucional
LOCATION:Carrer Canonge
ORGANIZER:Ajuntament d'Alella
URL:https://alella.cat/document.php?id=10985
END:VEVENT
END:VCALENDAR