BEGIN:VCALENDAR
VERSION:2.0
PRODID:-//Plone.org//NONSGML plone.app.event//EN
X-WR-TIMEZONE:Europe/Madrid
BEGIN:VEVENT
SUMMARY:Bibliolab
DTSTART;TZID=Europe/Madrid;VALUE=DATE-TIME:20190226T170000
DTEND;TZID=Europe/Madrid;VALUE=DATE-TIME:20190226T180000
DTSTAMP;VALUE=DATE-TIME:20260422T060605Z
UID:76da7408c259362672e307f1d073b8df
CREATED;VALUE=DATE-TIME:20190226T000000Z
CATEGORIES:Familiars
LOCATION:Biblioteca Municipal Ferrer i Guàrdia - Hort de la Rectoria. 08328 Alella
ORGANIZER:Ajuntament d'Alella
COMMENT:Preu: Gratuït
DESCRIPTION:Super Herois a càrrec d'Espai d'educació artística...
URL:https://alella.cat/document.php?id=10931
END:VEVENT
END:VCALENDAR