BEGIN:VCALENDAR
VERSION:2.0
PRODID:-//Plone.org//NONSGML plone.app.event//EN
X-WR-TIMEZONE:Europe/Madrid
BEGIN:VEVENT
SUMMARY:Cicle Ritmes a les Golfes. Entrades exhaurides
DTSTART;TZID=Europe/Madrid;VALUE=DATE-TIME:20190208T210000
DTEND;TZID=Europe/Madrid;VALUE=DATE-TIME:20190208T220000
DTSTAMP;VALUE=DATE-TIME:20260423T081035Z
UID:167c15e5bf23741d7721395fecdccf44
CREATED;VALUE=DATE-TIME:20190208T000000Z
CATEGORIES:Música
LOCATION:Centre Cultural de Can Lleonart - Plaça dels Germans Lleonart, 1 08328 Alella
ORGANIZER:Ajuntament d'Alella
COMMENT:Preu: Preu: 5 euros
DESCRIPTION:The Sey Sistern presenta Rise
URL:https://alella.cat/document.php?id=10908
END:VEVENT
END:VCALENDAR