BEGIN:VCALENDAR
VERSION:2.0
PRODID:-//Plone.org//NONSGML plone.app.event//EN
X-WR-TIMEZONE:Europe/Madrid
BEGIN:VEVENT
SUMMARY:Sortida amb raquetes de neu. Places exhaurides
DTSTART;TZID=Europe/Madrid;VALUE=DATE-TIME:20190206T070000
DTEND;TZID=Europe/Madrid;VALUE=DATE-TIME:20190206T080000
DTSTAMP;VALUE=DATE-TIME:20260426T031834Z
UID:bad3dcf13510ba79983348124d9daf3f
CREATED;VALUE=DATE-TIME:20190206T000000Z
CATEGORIES:Sortides
LOCATION:Parada de bus de Can Lleonart
ORGANIZER:Ajuntament d'Alella
URL:https://alella.cat/document.php?id=10902
END:VEVENT
END:VCALENDAR