BEGIN:VCALENDAR
VERSION:2.0
PRODID:-//Plone.org//NONSGML plone.app.event//EN
X-WR-TIMEZONE:Europe/Madrid
BEGIN:VEVENT
SUMMARY:Inscripcions cursos d'hivern de Can Lleonart
DTSTART;TZID=Europe/Madrid;VALUE=DATE-TIME:20190120T083000
DTEND;TZID=Europe/Madrid;VALUE=DATE-TIME:20190120T093000
DTSTAMP;VALUE=DATE-TIME:20260424T192152Z
UID:e9b6f752f5f82cd013b651573bfd119a
CREATED;VALUE=DATE-TIME:20190109T000000Z
CATEGORIES:Cursos
LOCATION:Centre Cultural de Can Lleonart - Plaça dels Germans Lleonart, 1 08328 Alella
ORGANIZER:Ajuntament d'Alella
COMMENT:Durada: 9 i 10 de gener antics alumnes i veïns i veïnes d'Alella. A partir de l'11 les inscripcions s'obren a tothom.
URL:https://alella.cat/document.php?id=10576
END:VEVENT
END:VCALENDAR