BEGIN:VCALENDAR
VERSION:2.0
PRODID:-//Plone.org//NONSGML plone.app.event//EN
X-WR-TIMEZONE:Europe/Madrid
BEGIN:VEVENT
SUMMARY:Audiència Pública
DTSTART;TZID=Europe/Madrid;VALUE=DATE-TIME:20190110T193000
DTEND;TZID=Europe/Madrid;VALUE=DATE-TIME:20190110T203000
DTSTAMP;VALUE=DATE-TIME:20260424T221744Z
UID:302dacbbe428bcb29180e6fc70e79872
CREATED;VALUE=DATE-TIME:20190110T000000Z
CATEGORIES:Agenda institucional
LOCATION:Can Lleonart
URL:https://alella.cat/document.php?id=10541
END:VEVENT
END:VCALENDAR