BEGIN:VCALENDAR
VERSION:2.0
PRODID:-//Plone.org//NONSGML plone.app.event//EN
X-WR-TIMEZONE:Europe/Madrid
BEGIN:VEVENT
SUMMARY:Taller de fanalets
DTSTART;TZID=Europe/Madrid;VALUE=DATE-TIME:20180104T170000
DTEND;TZID=Europe/Madrid;VALUE=DATE-TIME:20180104T180000
DTSTAMP;VALUE=DATE-TIME:20260424T094113Z
UID:a3e34b373aa5e0e4eb6b2a94c194efa0
CREATED;VALUE=DATE-TIME:20180104T000000Z
CATEGORIES:Festes i fires
LOCATION:Centre Cultural de Can Lleonart - Plaça dels Germans Lleonart, 1 08328 Alella
ORGANIZER:Esplai Guaita'l amb la col·laboració de l'Ajuntament
COMMENT:Durada: De 17 a 19.30h
URL:https://alella.cat/document.php?id=10480
END:VEVENT
END:VCALENDAR