BEGIN:VCALENDAR
VERSION:2.0
PRODID:-//Plone.org//NONSGML plone.app.event//EN
X-WR-TIMEZONE:Europe/Madrid
BEGIN:VEVENT
SUMMARY:Tertúlia. &OpenCurlyDoubleQuote;Gioacchino Rossini, el Cigne del Bel Canto (150 anys de la seva mort)&CloseCurlyDoubleQuote;
DTSTART;TZID=Europe/Madrid;VALUE=DATE-TIME:20181115T200000
DTEND;TZID=Europe/Madrid;VALUE=DATE-TIME:20181115T210000
DTSTAMP;VALUE=DATE-TIME:20260424T175622Z
UID:b4ac76f08bf8b36fcb571395f5572fcc
CREATED;VALUE=DATE-TIME:20181115T000000Z
CATEGORIES:
LOCATION:Centre Cultural de Can Lleonart - Plaça dels Germans Lleonart, 1 08328 Alella
ORGANIZER:Ajuntament d'Alella
URL:https://alella.cat/document.php?id=10357
END:VEVENT
END:VCALENDAR