BEGIN:VCALENDAR
VERSION:2.0
PRODID:-//Plone.org//NONSGML plone.app.event//EN
X-WR-TIMEZONE:Europe/Madrid
BEGIN:VEVENT
SUMMARY:Audiencia pública de barri amb els veïns i veïnes dels barris Centre Urbà, el Rost, Sot del Marquès, Cal Vell, Garrofers, Vallbona i Can Vera
DTSTART;TZID=Europe/Madrid;VALUE=DATE-TIME:20181030T193000
DTEND;TZID=Europe/Madrid;VALUE=DATE-TIME:20181030T203000
DTSTAMP;VALUE=DATE-TIME:20260424T150124Z
UID:870bcfc052abfb5b74babe26f1711ab3
CREATED;VALUE=DATE-TIME:20181030T000000Z
CATEGORIES:Agenda institucional
LOCATION:Sala de Plens de l'Ajuntament
URL:https://alella.cat/document.php?id=10285
END:VEVENT
END:VCALENDAR