BEGIN:VCALENDAR
VERSION:2.0
PRODID:-//Plone.org//NONSGML plone.app.event//EN
X-WR-TIMEZONE:Europe/Madrid
BEGIN:VEVENT
SUMMARY:ANUL·LADA Visita institucional del Degelat del Govern a Barcelona, Juli Fernández   
DTSTART;TZID=Europe/Madrid;VALUE=DATE-TIME:20181023T130000
DTEND;TZID=Europe/Madrid;VALUE=DATE-TIME:20181023T140000
DTSTAMP;VALUE=DATE-TIME:20260423T172246Z
UID:231de376792f234bf475d8a3d344a2b0
CREATED;VALUE=DATE-TIME:20181023T000000Z
CATEGORIES:Agenda institucional
LOCATION:Despatx d'alcaldia
URL:https://alella.cat/document.php?id=10267
END:VEVENT
END:VCALENDAR