BEGIN:VCALENDAR
VERSION:2.0
PRODID:-//Plone.org//NONSGML plone.app.event//EN
X-WR-TIMEZONE:Europe/Madrid
BEGIN:VEVENT
SUMMARY:Mirades al Món.Xerrada. Trepitjant Palestina càmera en mà
DTSTART;TZID=Europe/Madrid;VALUE=DATE-TIME:20181006T180000
DTEND;TZID=Europe/Madrid;VALUE=DATE-TIME:20181006T190000
DTSTAMP;VALUE=DATE-TIME:20260421T181849Z
UID:baac068647b1a37d94bc4529f198aa32
CREATED;VALUE=DATE-TIME:20181006T000000Z
CATEGORIES:
LOCATION:Centre Cultural de Can Lleonart - Plaça dels Germans Lleonart, 1 08328 Alella
ORGANIZER:Ajuntament d'Alella
URL:https://alella.cat/document.php?id=10203
END:VEVENT
END:VCALENDAR