BEGIN:VCALENDAR
VERSION:2.0
PRODID:-//Plone.org//NONSGML plone.app.event//EN
X-WR-TIMEZONE:Europe/Madrid
BEGIN:VEVENT
SUMMARY:Comissió executiva Localret
DTSTART;TZID=Europe/Madrid;VALUE=DATE-TIME:20180918T143000
DTEND;TZID=Europe/Madrid;VALUE=DATE-TIME:20180918T153000
DTSTAMP;VALUE=DATE-TIME:20260425T010600Z
UID:ecc44793ee6fc518449483731c24e830
CREATED;VALUE=DATE-TIME:20180918T000000Z
CATEGORIES:Agenda institucional
LOCATION:Locaret (Barcelona)
URL:https://alella.cat/document.php?id=10162
END:VEVENT
END:VCALENDAR