BEGIN:VCALENDAR
VERSION:2.0
PRODID:-//Plone.org//NONSGML plone.app.event//EN
X-WR-TIMEZONE:Europe/Madrid
BEGIN:VEVENT
SUMMARY:Junta de Govern extraordinària i pública
DTSTART;TZID=Europe/Madrid;VALUE=DATE-TIME:20180906T084500
DTEND;TZID=Europe/Madrid;VALUE=DATE-TIME:20180906T094500
DTSTAMP;VALUE=DATE-TIME:20260423T034452Z
UID:e085a2703582cf27ef25d978a6be8a85
CREATED;VALUE=DATE-TIME:20180906T000000Z
CATEGORIES:Agenda institucional
LOCATION:Sala de Plens de l'Ajuntament
URL:https://alella.cat/document.php?id=10144
END:VEVENT
END:VCALENDAR