BEGIN:VCALENDAR
VERSION:2.0
PRODID:-//Plone.org//NONSGML plone.app.event//EN
X-WR-TIMEZONE:Europe/Madrid
BEGIN:VEVENT
SUMMARY:Reunió de comandament de la Policia Local
DTSTART;TZID=Europe/Madrid;VALUE=DATE-TIME:20180904T083000
DTEND;TZID=Europe/Madrid;VALUE=DATE-TIME:20180904T093000
DTSTAMP;VALUE=DATE-TIME:20260423T235018Z
UID:3204cad24d4101e7a44b7014b8c0b8bb
CREATED;VALUE=DATE-TIME:20180904T000000Z
CATEGORIES:Agenda institucional
LOCATION:Caserna Policia Local
URL:https://alella.cat/document.php?id=10127
END:VEVENT
END:VCALENDAR