BEGIN:VCALENDAR
VERSION:2.0
PRODID:-//Plone.org//NONSGML plone.app.event//EN
X-WR-TIMEZONE:Europe/Madrid
BEGIN:VEVENT
SUMMARY:Inscripcions a les activitats i venda de tiquets de la Festa de la Verema
DTSTART;TZID=Europe/Madrid;VALUE=DATE-TIME:20180829T100000
DTEND;TZID=Europe/Madrid;VALUE=DATE-TIME:20180829T110000
DTSTAMP;VALUE=DATE-TIME:20260425T050226Z
UID:ad9f85ee3f7344d5f78f26ee06a22154
CREATED;VALUE=DATE-TIME:20180829T000000Z
CATEGORIES:
LOCATION:Oficina de Turisme
URL:https://alella.cat/document.php?id=10040
END:VEVENT
END:VCALENDAR