BEGIN:VCALENDAR
VERSION:2.0
PRODID:-//Plone.org//NONSGML plone.app.event//EN
X-WR-TIMEZONE:Europe/Madrid
BEGIN:VEVENT
SUMMARY:1r Vi.net de la XETA. Parlem de mentoria amb Patrick Aloy, Carme Cazcarra i José María Torres
DTSTART;TZID=Europe/Madrid;VALUE=DATE-TIME:20180724T190000
DTEND;TZID=Europe/Madrid;VALUE=DATE-TIME:20180724T200000
DTSTAMP;VALUE=DATE-TIME:20260424T151529Z
UID:c71107bb57dcc11b939e73c80efb9a14
CREATED;VALUE=DATE-TIME:20180724T000000Z
CATEGORIES:Agenda institucional
LOCATION:Centre Cultural de Can Lleonart
URL:https://alella.cat/document.php?id=10035
END:VEVENT
END:VCALENDAR