BEGIN:VCALENDAR
VERSION:2.0
PRODID:-//Plone.org//NONSGML plone.app.event//EN
X-WR-TIMEZONE:Europe/Madrid
BEGIN:VEVENT
SUMMARY:Festa Major. Havaneres i rom cremat
DTSTART;TZID=Europe/Madrid;VALUE=DATE-TIME:20180731T230000
DTEND;TZID=Europe/Madrid;VALUE=DATE-TIME:20180801T000000
DTSTAMP;VALUE=DATE-TIME:20260422T212202Z
UID:188bf1d7f512e3993cccdfb44a8bfa9f
CREATED;VALUE=DATE-TIME:20180731T000000Z
CATEGORIES:
LOCATION:Hort de la Rectoria
ORGANIZER:Ajuntament d'Alella
URL:https://alella.cat/document.php?id=10020
END:VEVENT
END:VCALENDAR