BEGIN:VCALENDAR
VERSION:2.0
PRODID:-//Plone.org//NONSGML plone.app.event//EN
X-WR-TIMEZONE:Europe/Madrid
BEGIN:VEVENT
SUMMARY:Festa Major. Activitats Aquàtiques
DTSTART;TZID=Europe/Madrid;VALUE=DATE-TIME:20180731T120000
DTEND;TZID=Europe/Madrid;VALUE=DATE-TIME:20180731T130000
DTSTAMP;VALUE=DATE-TIME:20260425T034747Z
UID:9161a6a1d385c5d32effd8813d88e140
CREATED;VALUE=DATE-TIME:20180731T000000Z
CATEGORIES:
LOCATION:Carrer Àfrica
ORGANIZER:Ajuntament d'Alella
URL:https://alella.cat/document.php?id=10015
END:VEVENT
END:VCALENDAR