BEGIN:VCALENDAR
VERSION:2.0
PRODID:-//Plone.org//NONSGML plone.app.event//EN
X-WR-TIMEZONE:Europe/Madrid
BEGIN:VEVENT
SUMMARY:Festa Major. Cinema a la fresca "Wonder"
DTSTART;TZID=Europe/Madrid;VALUE=DATE-TIME:20180730T214500
DTEND;TZID=Europe/Madrid;VALUE=DATE-TIME:20180730T224500
DTSTAMP;VALUE=DATE-TIME:20260423T124655Z
UID:7922b682b2259df239185c611343a512
CREATED;VALUE=DATE-TIME:20180730T000000Z
CATEGORIES:
LOCATION:Hort de la Rectoria
ORGANIZER:Ajuntament d'Alella
URL:https://alella.cat/document.php?id=10012
END:VEVENT
END:VCALENDAR